BEGIN:VCALENDAR
VERSION:2.0
PRODID:-//Research-KI - ECPv6.15.20//NONSGML v1.0//EN
CALSCALE:GREGORIAN
METHOD:PUBLISH
X-ORIGINAL-URL:https://research-ki.de
X-WR-CALDESC:Veranstaltungen für Research-KI
REFRESH-INTERVAL;VALUE=DURATION:PT1H
X-Robots-Tag:noindex
X-PUBLISHED-TTL:PT1H
BEGIN:VTIMEZONE
TZID:Europe/Berlin
BEGIN:DAYLIGHT
TZOFFSETFROM:+0100
TZOFFSETTO:+0200
TZNAME:CEST
DTSTART:20250330T010000
END:DAYLIGHT
BEGIN:STANDARD
TZOFFSETFROM:+0200
TZOFFSETTO:+0100
TZNAME:CET
DTSTART:20251026T010000
END:STANDARD
BEGIN:DAYLIGHT
TZOFFSETFROM:+0100
TZOFFSETTO:+0200
TZNAME:CEST
DTSTART:20260329T010000
END:DAYLIGHT
BEGIN:STANDARD
TZOFFSETFROM:+0200
TZOFFSETTO:+0100
TZNAME:CET
DTSTART:20261025T010000
END:STANDARD
BEGIN:DAYLIGHT
TZOFFSETFROM:+0100
TZOFFSETTO:+0200
TZNAME:CEST
DTSTART:20270328T010000
END:DAYLIGHT
BEGIN:STANDARD
TZOFFSETFROM:+0200
TZOFFSETTO:+0100
TZNAME:CET
DTSTART:20271031T010000
END:STANDARD
END:VTIMEZONE
BEGIN:VEVENT
DTSTART;TZID=Europe/Berlin:20260427T100000
DTEND;TZID=Europe/Berlin:20260427T110000
DTSTAMP:20260421T111235
CREATED:20260324T154708Z
LAST-MODIFIED:20260324T154708Z
UID:1591-1777284000-1777287600@research-ki.de
SUMMARY:Mehr Nutzen\, weniger Risiko: Wie Retrieval Augmented Generation KI im Mittelstand verlässlich macht
DESCRIPTION:
URL:https://research-ki.de/termine/mehr-nutzen-weniger-risiko-wie-retrieval-augmented-generation-ki-im-mittelstand-verlaesslich-macht/
LOCATION:Online
CATEGORIES:Online
END:VEVENT
BEGIN:VEVENT
DTSTART;TZID=Europe/Berlin:20260427T130000
DTEND;TZID=Europe/Berlin:20260427T170000
DTSTAMP:20260421T111235
CREATED:20260415T121952Z
LAST-MODIFIED:20260415T121952Z
UID:1742-1777294800-1777309200@research-ki.de
SUMMARY:KI verstehen: ML\, Sprachmodelle und Agenten kompakt erklärt
DESCRIPTION:
URL:https://research-ki.de/termine/ki-verstehen-ml-sprachmodelle-und-agenten-kompakt-erklaert-2/
LOCATION:appliedAI Heilbronn\, Im Zukunftspark 11\, Heilbronn\, 74076\, Germany
CATEGORIES:Präsenz
END:VEVENT
BEGIN:VEVENT
DTSTART;TZID=Europe/Berlin:20260428T140000
DTEND;TZID=Europe/Berlin:20260428T153000
DTSTAMP:20260421T111235
CREATED:20260325T162918Z
LAST-MODIFIED:20260325T162918Z
UID:1655-1777384800-1777390200@research-ki.de
SUMMARY:Künstliche Intelligenz verstehen und Anwendungsmöglichkeiten entdecken
DESCRIPTION:
URL:https://research-ki.de/termine/kuenstliche-intelligenz-verstehen-und-anwendungsmoeglichkeiten-entdecken/
LOCATION:Online
CATEGORIES:Online
END:VEVENT
BEGIN:VEVENT
DTSTART;TZID=Europe/Berlin:20260429T100000
DTEND;TZID=Europe/Berlin:20260429T110000
DTSTAMP:20260421T111235
CREATED:20260325T160611Z
LAST-MODIFIED:20260325T160611Z
UID:1627-1777456800-1777460400@research-ki.de
SUMMARY:Datenschutzaudits und Aufbau eines wirksamen Datenschutzmanagementsystems (DSMS)
DESCRIPTION:
URL:https://research-ki.de/termine/datenschutzaudits-und-aufbau-eines-wirksamen-datenschutzmanagementsystems-dsms/
LOCATION:Online
CATEGORIES:Online
END:VEVENT
BEGIN:VEVENT
DTSTART;TZID=Europe/Berlin:20260429T100000
DTEND;TZID=Europe/Berlin:20260429T120000
DTSTAMP:20260421T111235
CREATED:20260415T121726Z
LAST-MODIFIED:20260415T121726Z
UID:1740-1777456800-1777464000@research-ki.de
SUMMARY:AI Act umsetzen: Ihr Weg Richtung Konformität
DESCRIPTION:
URL:https://research-ki.de/termine/ai-act-umsetzen-ihr-weg-richtung-konformitaet-2/
LOCATION:Online
CATEGORIES:Online
END:VEVENT
BEGIN:VEVENT
DTSTART;TZID=Europe/Berlin:20260429T140000
DTEND;TZID=Europe/Berlin:20260429T150000
DTSTAMP:20260421T111235
CREATED:20260324T154839Z
LAST-MODIFIED:20260324T154839Z
UID:1593-1777471200-1777474800@research-ki.de
SUMMARY:Prompting in der Praxis: Von der Idee zum verlässlichen Ergebnis
DESCRIPTION:
URL:https://research-ki.de/termine/prompting-in-der-praxis-von-der-idee-zum-verlaesslichen-ergebnis/
LOCATION:Online
CATEGORIES:Online
END:VEVENT
BEGIN:VEVENT
DTSTART;TZID=Europe/Berlin:20260430T100000
DTEND;TZID=Europe/Berlin:20260430T110000
DTSTAMP:20260421T111235
CREATED:20260324T155032Z
LAST-MODIFIED:20260324T155032Z
UID:1595-1777543200-1777546800@research-ki.de
SUMMARY:Krisenfeste KI - Blackout-tauglicher Wissensassistent mit lokalen LLMs und RAG
DESCRIPTION:
URL:https://research-ki.de/termine/krisenfeste-ki-blackout-tauglicher-wissensassistent-mit-lokalen-llms-und-rag/
LOCATION:Online
CATEGORIES:Online
END:VEVENT
BEGIN:VEVENT
DTSTART;TZID=Europe/Berlin:20260430T140000
DTEND;TZID=Europe/Berlin:20260430T150000
DTSTAMP:20260421T111235
CREATED:20260324T155156Z
LAST-MODIFIED:20260324T155156Z
UID:1599-1777557600-1777561200@research-ki.de
SUMMARY:KI - aber sinnvoll: Was im Mittelstand funktioniert und unter eigener Kontrolle bleibt
DESCRIPTION:
URL:https://research-ki.de/termine/ki-aber-sinnvoll-was-im-mittelstand-funktioniert-und-unter-eigener-kontrolle-bleibt/
LOCATION:Online
CATEGORIES:Online
END:VEVENT
BEGIN:VEVENT
DTSTART;TZID=Europe/Berlin:20260504T090000
DTEND;TZID=Europe/Berlin:20260504T100000
DTSTAMP:20260421T111235
CREATED:20260415T123206Z
LAST-MODIFIED:20260415T123206Z
UID:1748-1777885200-1777888800@research-ki.de
SUMMARY:KI-Helfer im Unternehmen und Organisationen: Use Cases & Sprechstunde
DESCRIPTION:
URL:https://research-ki.de/termine/ki-helfer-im-unternehmen-und-organisationen-use-cases-sprechstunde/
LOCATION:Online
CATEGORIES:Online
END:VEVENT
BEGIN:VEVENT
DTSTART;TZID=Europe/Berlin:20260505T100000
DTEND;TZID=Europe/Berlin:20260505T110000
DTSTAMP:20260421T111235
CREATED:20260324T155307Z
LAST-MODIFIED:20260324T155307Z
UID:1601-1777975200-1777978800@research-ki.de
SUMMARY:KI-Wandel gestalten: Die menschliche Seite der Transformation
DESCRIPTION:
URL:https://research-ki.de/termine/ki-wandel-gestalten-die-menschliche-seite-der-transformation/
LOCATION:Online
CATEGORIES:Online
END:VEVENT
BEGIN:VEVENT
DTSTART;TZID=Europe/Berlin:20260505T130000
DTEND;TZID=Europe/Berlin:20260505T170000
DTSTAMP:20260421T111235
CREATED:20260325T163014Z
LAST-MODIFIED:20260325T163014Z
UID:1658-1777986000-1778000400@research-ki.de
SUMMARY:Effizient zur KI-Umsetzung
DESCRIPTION:
URL:https://research-ki.de/termine/effizient-zur-ki-umsetzung-3/
LOCATION:IT-Zentrum Lingen\, Kaiserstraße 10B\, Lingen (Ems)\, 49809\, Germany
CATEGORIES:Präsenz
END:VEVENT
BEGIN:VEVENT
DTSTART;TZID=Europe/Berlin:20260511T090000
DTEND;TZID=Europe/Berlin:20260511T100000
DTSTAMP:20260421T111235
CREATED:20260415T123517Z
LAST-MODIFIED:20260415T123517Z
UID:1750-1778490000-1778493600@research-ki.de
SUMMARY:KI mit Konrad
DESCRIPTION:
URL:https://research-ki.de/termine/ki-mit-konrad/
LOCATION:Online
CATEGORIES:Online
END:VEVENT
BEGIN:VEVENT
DTSTART;TZID=Europe/Berlin:20260512T170000
DTEND;TZID=Europe/Berlin:20260512T193000
DTSTAMP:20260421T111235
CREATED:20260417T115020Z
LAST-MODIFIED:20260417T115020Z
UID:1770-1778605200-1778614200@research-ki.de
SUMMARY:Agentic AI in Industrie und Dienstleistung „Erfolgsfaktoren – aus der Praxis für die Praxis
DESCRIPTION:
URL:https://research-ki.de/termine/agentic-ai-in-industrie-und-dienstleistung-erfolgsfaktoren-aus-der-praxis-fuer-die-praxis/
LOCATION:Online
CATEGORIES:Online
END:VEVENT
BEGIN:VEVENT
DTSTART;TZID=Europe/Berlin:20260518T090000
DTEND;TZID=Europe/Berlin:20260518T100000
DTSTAMP:20260421T111235
CREATED:20260415T123648Z
LAST-MODIFIED:20260415T123648Z
UID:1752-1779094800-1779098400@research-ki.de
SUMMARY:Daten\, RAG und KI – der Effizienzboost: Use Cases & Sprechstunde
DESCRIPTION:
URL:https://research-ki.de/termine/daten-rag-und-ki-der-effizienzboost-use-cases-sprechstunde/
LOCATION:Online
CATEGORIES:Online
END:VEVENT
BEGIN:VEVENT
DTSTART;TZID=Europe/Berlin:20260519T093000
DTEND;TZID=Europe/Berlin:20260519T123000
DTSTAMP:20260421T111235
CREATED:20260324T160908Z
LAST-MODIFIED:20260324T160908Z
UID:1620-1779183000-1779193800@research-ki.de
SUMMARY:Künstliche Intelligenz im Job: Erleben. Begreifen. Gestalten.
DESCRIPTION:
URL:https://research-ki.de/termine/kuenstliche-intelligenz-im-job-erleben-begreifen-gestalten-3/
LOCATION:Fraunhofer IAO\, Atelierstraße 1\, München\, 81671\, Germany
CATEGORIES:Präsenz
END:VEVENT
BEGIN:VEVENT
DTSTART;TZID=Europe/Berlin:20260519T093000
DTEND;TZID=Europe/Berlin:20260520T171500
DTSTAMP:20260421T111235
CREATED:20260324T161153Z
LAST-MODIFIED:20260324T161153Z
UID:1622-1779183000-1779297300@research-ki.de
SUMMARY:The Responsible AI Forum
DESCRIPTION:
URL:https://research-ki.de/termine/the-responsible-ai-forum/
LOCATION:Amerikahaus\, Karolinenpl. 3\, München\, 80333\, Germany
CATEGORIES:Präsenz
END:VEVENT
BEGIN:VEVENT
DTSTART;TZID=Europe/Berlin:20260519T100000
DTEND;TZID=Europe/Berlin:20260519T120000
DTSTAMP:20260421T111235
CREATED:20260415T121537Z
LAST-MODIFIED:20260415T121537Z
UID:1738-1779184800-1779192000@research-ki.de
SUMMARY:Grundlagen der KI
DESCRIPTION:
URL:https://research-ki.de/termine/grundlagen-der-ki/
LOCATION:Online
CATEGORIES:Online
END:VEVENT
BEGIN:VEVENT
DTSTART;TZID=Europe/Berlin:20260520T140000
DTEND;TZID=Europe/Berlin:20260520T150000
DTSTAMP:20260421T111235
CREATED:20260324T155418Z
LAST-MODIFIED:20260324T155418Z
UID:1603-1779285600-1779289200@research-ki.de
SUMMARY:Von KI-Assistenten zu KI-Agenten: Der nächste Entwicklungsschritt für Unternehmen
DESCRIPTION:
URL:https://research-ki.de/termine/von-ki-assistenten-zu-ki-agenten-der-naechste-entwicklungsschritt-fuer-unternehmen/
LOCATION:Online
CATEGORIES:Online
END:VEVENT
BEGIN:VEVENT
DTSTART;TZID=Europe/Berlin:20260521T100000
DTEND;TZID=Europe/Berlin:20260521T110000
DTSTAMP:20260421T111235
CREATED:20260325T163133Z
LAST-MODIFIED:20260325T163133Z
UID:1660-1779357600-1779361200@research-ki.de
SUMMARY:KI-Compliance effizient und rechtskonform umsetzen
DESCRIPTION:
URL:https://research-ki.de/termine/ki-compliance-effizient-und-rechtskonform-umsetzen/
LOCATION:Online
CATEGORIES:Online
END:VEVENT
BEGIN:VEVENT
DTSTART;TZID=Europe/Berlin:20260521T140000
DTEND;TZID=Europe/Berlin:20260521T150000
DTSTAMP:20260421T111235
CREATED:20260324T155528Z
LAST-MODIFIED:20260324T155528Z
UID:1605-1779372000-1779375600@research-ki.de
SUMMARY:Grundlagen des Requirements Engineering für KI-Projekte – Prompts als Anforderungen
DESCRIPTION:
URL:https://research-ki.de/termine/grundlagen-des-requirements-engineering-fuer-ki-projekte-prompts-als-anforderungen/
LOCATION:Online
CATEGORIES:Online
END:VEVENT
BEGIN:VEVENT
DTSTART;TZID=Europe/Berlin:20260522T100000
DTEND;TZID=Europe/Berlin:20260522T113000
DTSTAMP:20260421T111235
CREATED:20260415T120233Z
LAST-MODIFIED:20260415T120233Z
UID:1734-1779444000-1779449400@research-ki.de
SUMMARY:KI Use Cases finden
DESCRIPTION:
URL:https://research-ki.de/termine/ki-use-cases-finden/
LOCATION:Online
CATEGORIES:Online
END:VEVENT
BEGIN:VEVENT
DTSTART;TZID=Europe/Berlin:20260529T100000
DTEND;TZID=Europe/Berlin:20260529T110000
DTSTAMP:20260421T111235
CREATED:20260325T160733Z
LAST-MODIFIED:20260325T160733Z
UID:1630-1780048800-1780052400@research-ki.de
SUMMARY:KI-Strategie für Unternehmen
DESCRIPTION:
URL:https://research-ki.de/termine/ki-strategie-fuer-unternehmen/
LOCATION:Online
CATEGORIES:Online
END:VEVENT
BEGIN:VEVENT
DTSTART;TZID=Europe/Berlin:20260603T150000
DTEND;TZID=Europe/Berlin:20260603T170000
DTSTAMP:20260421T111235
CREATED:20260325T163241Z
LAST-MODIFIED:20260325T163241Z
UID:1663-1780498800-1780506000@research-ki.de
SUMMARY:Effizient zur KI-Umsetzung
DESCRIPTION:
URL:https://research-ki.de/termine/effizient-zur-ki-umsetzung-4/
LOCATION:IT-Zentrum Lingen\, Kaiserstraße 10B\, Lingen (Ems)\, 49809\, Germany
CATEGORIES:Präsenz
END:VEVENT
BEGIN:VEVENT
DTSTART;TZID=Europe/Berlin:20260608T090000
DTEND;TZID=Europe/Berlin:20260608T100000
DTSTAMP:20260421T111235
CREATED:20260415T123809Z
LAST-MODIFIED:20260415T123809Z
UID:1754-1780909200-1780912800@research-ki.de
SUMMARY:KI mit Konrad
DESCRIPTION:
URL:https://research-ki.de/termine/ki-mit-konrad-2/
LOCATION:Online
CATEGORIES:Online
END:VEVENT
BEGIN:VEVENT
DTSTART;TZID=Europe/Berlin:20260616T100000
DTEND;TZID=Europe/Berlin:20260616T120000
DTSTAMP:20260421T111235
CREATED:20260325T163351Z
LAST-MODIFIED:20260325T163351Z
UID:1665-1781604000-1781611200@research-ki.de
SUMMARY:Digitale Souveränität stärken - Datenqualität mit KI verbessern
DESCRIPTION:
URL:https://research-ki.de/termine/digitale-souveraenitaet-staerken-datenqualitaet-mit-ki-verbessern/
LOCATION:Online
CATEGORIES:Online
END:VEVENT
BEGIN:VEVENT
DTSTART;TZID=Europe/Berlin:20260617T100000
DTEND;TZID=Europe/Berlin:20260617T120000
DTSTAMP:20260421T111235
CREATED:20260415T121415Z
LAST-MODIFIED:20260415T121415Z
UID:1736-1781690400-1781697600@research-ki.de
SUMMARY:AI Act umsetzen: Ihr Weg Richtung Konformität
DESCRIPTION:
URL:https://research-ki.de/termine/ai-act-umsetzen-ihr-weg-richtung-konformitaet/
LOCATION:Online
CATEGORIES:Online
END:VEVENT
END:VCALENDAR